BEGIN:VCALENDAR
VERSION:2.0
PRODID:-//wp-events-plugin.com//7.2.2.1//EN
BEGIN:VEVENT
UID:328@lovewokingham.co.uk
DTSTART;TZID=Europe/London:20230802T190000
DTEND;TZID=Europe/London:20230802T220000
DTSTAMP:20230730T140249Z
URL:https://www.lovewokingham.co.uk/events/luke-bates-live-at-btd
SUMMARY:Luke Bates Live at BTD
DESCRIPTION:Beyond the Dowload presents Reading based singer-songwriter Luk
 e Bates\n\nOnly 40 tickets available!\n\nLicensed bar\n\nTickets £4 on th
 e door or in advance: https://beyondthedownload.uk/products/luke-bates-liv
 e-at-btd?_pos=1&amp\;_sid=bf13d3dd4&amp\;_ss=r\n\n&nbsp\;
ATTACH;FMTTYPE=image/jpeg:https://www.lovewokingham.co.uk/wp-content/uploa
 ds/2023/07/luke.webp
CATEGORIES:Mailchimp Events
LOCATION:Beyond the Download\, 5 Rose Street\, Wokingham\, Berkshire\, RG40
  1XS\, United Kingdom
GEO:51.410935;-0.833497
X-APPLE-STRUCTURED-LOCATION;VALUE=URI;X-ADDRESS=5 Rose Street\, Wokingham\,
  Berkshire\, RG40 1XS\, United Kingdom;X-APPLE-RADIUS=100;X-TITLE=Beyond t
 he Download:geo:51.410935,-0.833497
END:VEVENT
BEGIN:VTIMEZONE
TZID:Europe/London
X-LIC-LOCATION:Europe/London
BEGIN:DAYLIGHT
DTSTART:20230326T020000
TZOFFSETFROM:+0000
TZOFFSETTO:+0100
TZNAME:BST
END:DAYLIGHT
END:VTIMEZONE
END:VCALENDAR