BEGIN:VCALENDAR
VERSION:2.0
PRODID:-//wp-events-plugin.com//7.2.2.1//EN
BEGIN:VEVENT
UID:755@lovewokingham.co.uk
DTSTART;TZID=Europe/London:20250209T110000
DTEND;TZID=Europe/London:20250209T150000
DTSTAMP:20250116T105418Z
URL:https://www.lovewokingham.co.uk/events/lunar-new-year-celebration-3
SUMMARY:Lunar New Year Celebration
DESCRIPTION:Wokingham will once again be celebrating Lunar New Year on Sund
 ay 9th February\n\nThe lion dance\, one of the most important traditions a
 t Chinese New Year\, will be performed in the heart of the town alongside 
 music\, arts and crafts\, and there'll be a delicious selection of street 
 food on offer on the day.\n\nMore details: https://www.wokingham-tc.gov.uk
 /lunar-new-year/\n\nIn Chinese culture\, the lion symbolizes power\, wisdo
 m\, and superiority. Their presence reported to bring good fortune and cha
 se away evil spirits.\n\nOn the stage\nTimings (subject to change) for the
  day are:\n\n11am: Local Canto pop band 852X\n12 noon and 2pm: We’ll be 
 joined by the Pak-Mei UK Lion Dance Troupe who will be performing the reno
 wned and spectacular Lion Dance\n12:45pm: Singing and Cantonese workshop w
 ith HKR singers\n1:15pm: Hong Kong Reading Singers and Hong Kong Reading J
 unior Singers.\nAll performances are between 20 and 30 minutes in duration
 \n\nThere will be FREE parking in Wokingham Borough Council car parks on t
 he day too.
ATTACH;FMTTYPE=image/jpeg:https://www.lovewokingham.co.uk/wp-content/uploa
 ds/2025/01/2.png
CATEGORIES:Mailchimp Events
LOCATION:Wokingham Market Place\, Market Place\, Wokingham \, Berkshire\, R
 G40 1AS\, United Kingdom
X-APPLE-STRUCTURED-LOCATION;VALUE=URI;X-ADDRESS=Market Place\, Wokingham \,
  Berkshire\, RG40 1AS\, United Kingdom;X-APPLE-RADIUS=100;X-TITLE=Wokingha
 m Market Place:geo:0,0
END:VEVENT
BEGIN:VTIMEZONE
TZID:Europe/London
X-LIC-LOCATION:Europe/London
BEGIN:STANDARD
DTSTART:20241027T010000
TZOFFSETFROM:+0100
TZOFFSETTO:+0000
TZNAME:GMT
END:STANDARD
END:VTIMEZONE
END:VCALENDAR