BEGIN:VCALENDAR
VERSION:2.0
PRODID:-//wp-events-plugin.com//7.2.2.1//EN
BEGIN:VEVENT
UID:186@lovewokingham.co.uk
DTSTART;TZID=Europe/London:20230129T110000
DTEND;TZID=Europe/London:20230129T150000
DTSTAMP:20230112T112004Z
URL:https://www.lovewokingham.co.uk/events/lunar-new-year-celebration
SUMMARY:Lunar New Year Celebration
DESCRIPTION:Lion dance\, arts\, crafts\, music & street food
ATTACH;FMTTYPE=image/jpeg:https://www.lovewokingham.co.uk/wp-content/uploa
 ds/2023/01/Happy-Lunar-New-Year-Facebook-Post-.png
CATEGORIES:Mailchimp Events
LOCATION:Wokingham Market Place\, Market Place\, Wokingham \, Berkshire\, R
 G40 1AS\, United Kingdom
X-APPLE-STRUCTURED-LOCATION;VALUE=URI;X-ADDRESS=Market Place\, Wokingham \,
  Berkshire\, RG40 1AS\, United Kingdom;X-APPLE-RADIUS=100;X-TITLE=Wokingha
 m Market Place:geo:0,0
END:VEVENT
BEGIN:VTIMEZONE
TZID:Europe/London
X-LIC-LOCATION:Europe/London
BEGIN:STANDARD
DTSTART:20221030T010000
TZOFFSETFROM:+0100
TZOFFSETTO:+0000
TZNAME:GMT
END:STANDARD
END:VTIMEZONE
END:VCALENDAR