BEGIN:VCALENDAR
VERSION:2.0
PRODID:-//wp-events-plugin.com//7.2.2.1//EN
BEGIN:VEVENT
UID:895@lovewokingham.co.uk
DTSTART;TZID=Europe/London:20250926T100000
DTEND;TZID=Europe/London:20250926T113000
DTSTAMP:20250716T132605Z
URL:https://www.lovewokingham.co.uk/events/macmillan-coffee-morning
SUMMARY:Macmillan Coffee Morning
DESCRIPTION:Join the annual Coffee Morning by Simplyfit Berkshire in aid of
  Macmillan Cancer Support. Teas\, coffees\, cakes\, and treats\, plus a gr
 eat raffle all to help raise vital funds for those affected by cancer.\n\n
 The invite is open to all - the more the merrier so pop it in your diary a
 nd we will see you there!
ATTACH;FMTTYPE=image/jpeg:https://www.lovewokingham.co.uk/wp-content/uploa
 ds/2025/07/514417854_1278790917585589_6895719467032121260_n.jpg
CATEGORIES:Mailchimp Events
LOCATION:St Paul's Parish Rooms\, 40 Reading Road\, Wokingham\, Berkshire\,
  RG41 1EH\, United Kingdom
X-APPLE-STRUCTURED-LOCATION;VALUE=URI;X-ADDRESS=40 Reading Road\, Wokingham
 \, Berkshire\, RG41 1EH\, United Kingdom;X-APPLE-RADIUS=100;X-TITLE=St Pau
 l's Parish Rooms:geo:0,0
END:VEVENT
BEGIN:VTIMEZONE
TZID:Europe/London
X-LIC-LOCATION:Europe/London
BEGIN:DAYLIGHT
DTSTART:20250330T020000
TZOFFSETFROM:+0000
TZOFFSETTO:+0100
TZNAME:BST
END:DAYLIGHT
END:VTIMEZONE
END:VCALENDAR