BEGIN:VCALENDAR
VERSION:2.0
PRODID:-//wp-events-plugin.com//7.2.2.1//EN
BEGIN:VEVENT
UID:107@lovewokingham.co.uk
DTSTART;TZID=Europe/London:20220502T100000
DTEND;TZID=Europe/London:20220502T170000
DTSTAMP:20220323T195111Z
URL:https://www.lovewokingham.co.uk/events/may-fayre-wokingham
SUMMARY:May Fayre Wokingham
DESCRIPTION:With fairground rides\, stalls and lots of family fun\, this is
  a great day out not to be missed!\n\nMore details to come
ATTACH;FMTTYPE=image/jpeg:https://www.lovewokingham.co.uk/wp-content/uploa
 ds/2022/03/95809160_953034038475990_8925981921389838336_n.jpg
LOCATION:Broad Street\, Broad Street\, Wokingham\, Berkshire\, RG40 1AU\, U
 nited Kingdom
GEO:51.411316;-0.835717
X-APPLE-STRUCTURED-LOCATION;VALUE=URI;X-ADDRESS=Broad Street\, Wokingham\, 
 Berkshire\, RG40 1AU\, United Kingdom;X-APPLE-RADIUS=100;X-TITLE=Broad Str
 eet:geo:51.411316,-0.835717
END:VEVENT
BEGIN:VTIMEZONE
TZID:Europe/London
X-LIC-LOCATION:Europe/London
BEGIN:DAYLIGHT
DTSTART:20220327T020000
TZOFFSETFROM:+0000
TZOFFSETTO:+0100
TZNAME:BST
END:DAYLIGHT
END:VTIMEZONE
END:VCALENDAR