BEGIN:VCALENDAR
VERSION:2.0
PRODID:-//wp-events-plugin.com//7.2.2.1//EN
BEGIN:VEVENT
UID:911@lovewokingham.co.uk
DTSTART;TZID=Europe/London:20251205T190000
DTEND;TZID=Europe/London:20251205T220000
DTSTAMP:20250909T115801Z
URL:https://www.lovewokingham.co.uk/events/miriam-louise-christmas-set
SUMMARY:Miriam Louise Christmas Set
DESCRIPTION:A warm and inviting evening with Miriam\, whose beautiful voice
  brings classic Christmas songs to life.\n\nPerfect for a gentle night of 
 festive cheer\, Miriam’s performance will fill the room with timeless me
 lodies\, cosy charm\, and that magical holiday spirit we all love
ATTACH;FMTTYPE=image/jpeg:https://www.lovewokingham.co.uk/wp-content/uploa
 ds/2025/09/538533052_1274614711341904_7804596231996813903_n.jpg
CATEGORIES:Mailchimp Events
LOCATION:Sit & Sip\, 8 Peach Place\, Wokingham\, Berkshire\, RG40 1LY\, Uni
 ted Kingdom
GEO:51.410641;-0.832781
X-APPLE-STRUCTURED-LOCATION;VALUE=URI;X-ADDRESS=8 Peach Place\, Wokingham\,
  Berkshire\, RG40 1LY\, United Kingdom;X-APPLE-RADIUS=100;X-TITLE=Sit & Si
 p:geo:51.410641,-0.832781
END:VEVENT
BEGIN:VTIMEZONE
TZID:Europe/London
X-LIC-LOCATION:Europe/London
BEGIN:STANDARD
DTSTART:20251026T010000
TZOFFSETFROM:+0100
TZOFFSETTO:+0000
TZNAME:GMT
END:STANDARD
END:VTIMEZONE
END:VCALENDAR