BEGIN:VCALENDAR
VERSION:2.0
PRODID:-//wp-events-plugin.com//7.2.2.1//EN
BEGIN:VEVENT
UID:803@lovewokingham.co.uk
DTSTART;TZID=Europe/London:20250328T143000
DTEND;TZID=Europe/London:20250330T163000
DTSTAMP:20250227T102239Z
URL:https://www.lovewokingham.co.uk/events/mothers-day-afternoon-tea-at-ch
 alk
SUMMARY:Mother's Day Afternoon Tea at Chalk
DESCRIPTION:Treat your mum to an afternoon tea at Chalk this Mother's Day.\
 nThe Mother's Day afternoon tea experience will include a choice of fine t
 eas and gourmet coffee\, along with an assortment of delicious finger sand
 wiches\, topped off with tiers of charming cakes baked by their expert pas
 try chef.\nChoose from:\nTraditional Afternoon Tea £25 per person\nMartin
 i Afternoon Tea £30 per person\nChampagne Afternoon Tea £35 per person\n
 \nServing our special Mother's Day afternoon tea on 28th\, 29th\, and 30th
  of March\, between 2:30pm - 4:30pm.\nTo book a table\, please give their 
 friendly team a call on 01189 798805 or email enquiries@chalkrestaurants.c
 om.
ATTACH;FMTTYPE=image/jpeg:https://www.lovewokingham.co.uk/wp-content/uploa
 ds/2025/02/480834919_1174065804720966_1295154384291888672_n.jpg
CATEGORIES:Mailchimp Events
LOCATION:Chalk Restaurant\, 31 Broad Street\, Wokingham\, RG40 1AU\, United
  Kingdom
GEO:51.411464;-0.835379
X-APPLE-STRUCTURED-LOCATION;VALUE=URI;X-ADDRESS=31 Broad Street\, Wokingham
 \, RG40 1AU\, United Kingdom;X-APPLE-RADIUS=100;X-TITLE=Chalk Restaurant:g
 eo:51.411464,-0.835379
END:VEVENT
BEGIN:VTIMEZONE
TZID:Europe/London
X-LIC-LOCATION:Europe/London
BEGIN:STANDARD
DTSTART:20241027T010000
TZOFFSETFROM:+0100
TZOFFSETTO:+0000
TZNAME:GMT
END:STANDARD
BEGIN:DAYLIGHT
DTSTART:20250330T020000
TZOFFSETFROM:+0000
TZOFFSETTO:+0100
TZNAME:BST
END:DAYLIGHT
END:VTIMEZONE
END:VCALENDAR