BEGIN:VCALENDAR
VERSION:2.0
PRODID:-//wp-events-plugin.com//7.2.2.1//EN
BEGIN:VEVENT
UID:291@lovewokingham.co.uk
DTSTART;TZID=Europe/London:20230707T193000
DTEND;TZID=Europe/London:20230707T220000
DTSTAMP:20230616T102623Z
URL:https://www.lovewokingham.co.uk/events/nell-bryden-in-concert
SUMMARY:Nell Bryden in Concert
DESCRIPTION:Wokingham Music Club presents: Nell Bryden in Concert at The Wh
 itty Theatre\n\nAfter the success of her tour in 2022\, Nell Bryden is bac
 k on the road with an extensive set of dates promoting her latest album 
 ‘Arms Around The Flame’.\n\nThemes of heartbreak\, self-empowerment an
 d resilience resonate throughout the album\, already being called her stro
 ngest yet.\n\nExpect one fabulous song after another from this New Yorker.
 \n\nTickets: http://www.ticketsource.co.uk/wokinghammusicclub
ATTACH;FMTTYPE=image/jpeg:https://www.lovewokingham.co.uk/wp-content/uploa
 ds/2023/06/NellPortrait.jpg
CATEGORIES:Mailchimp Events
LOCATION:The Whitty Theatre\, Luckley Road\, Wokingham\, Berkshire\, RG403E
 U\, United Kingdom
GEO:51.398838;-0.839821
X-APPLE-STRUCTURED-LOCATION;VALUE=URI;X-ADDRESS=Luckley Road\, Wokingham\, 
 Berkshire\, RG403EU\, United Kingdom;X-APPLE-RADIUS=100;X-TITLE=The Whitty
  Theatre:geo:51.398838,-0.839821
END:VEVENT
BEGIN:VTIMEZONE
TZID:Europe/London
X-LIC-LOCATION:Europe/London
BEGIN:DAYLIGHT
DTSTART:20230326T020000
TZOFFSETFROM:+0000
TZOFFSETTO:+0100
TZNAME:BST
END:DAYLIGHT
END:VTIMEZONE
END:VCALENDAR