BEGIN:VCALENDAR
VERSION:2.0
PRODID:-//wp-events-plugin.com//7.2.2.1//EN
BEGIN:VEVENT
UID:63@lovewokingham.co.uk
DTSTART;TZID=Europe/London:20210723T200000
DTEND;TZID=Europe/London:20210723T223000
DTSTAMP:20210630T144937Z
URL:https://www.lovewokingham.co.uk/events/never-the-bride
SUMMARY:Never The Bride
DESCRIPTION:First event back by Wokingham Music Club
ATTACH;FMTTYPE=image/jpeg:https://www.lovewokingham.co.uk/wp-content/uploa
 ds/2021/06/nevertb.jpg
CATEGORIES:Mailchimp Events
LOCATION:Royal British Legion\, Woodward Close\, Wokingham\, Berkshire\, RG
 415LP\, United Kingdom
X-APPLE-STRUCTURED-LOCATION;VALUE=URI;X-ADDRESS=Woodward Close\, Wokingham\
 , Berkshire\, RG415LP\, United Kingdom;X-APPLE-RADIUS=100;X-TITLE=Royal Br
 itish Legion:geo:0,0
END:VEVENT
BEGIN:VTIMEZONE
TZID:Europe/London
X-LIC-LOCATION:Europe/London
BEGIN:DAYLIGHT
DTSTART:20210328T020000
TZOFFSETFROM:+0000
TZOFFSETTO:+0100
TZNAME:BST
END:DAYLIGHT
END:VTIMEZONE
END:VCALENDAR