BEGIN:VCALENDAR
VERSION:2.0
PRODID:-//wp-events-plugin.com//7.2.2.1//EN
BEGIN:VEVENT
UID:909@lovewokingham.co.uk
DTSTART;TZID=Europe/London:20251231T190000
DTEND;TZID=Europe/London:20260101T010000
DTSTAMP:20251119T092708Z
URL:https://www.lovewokingham.co.uk/events/new-years-eve-party
SUMMARY:New Year's Eve Party
DESCRIPTION:Join Sit &amp\; Sip this New Year’s Eve for an unforgettable 
 night!\n\nSee in 2025 with a bang – an incredible DJ set from DJ Paul Ja
 mes Brown Discotheques keeping the party alive until late.\n\n£12.50 pre 
 book - includes glass of fizz and guaranteed entry\, no queuing. https://
 wegottickets.com/event/683521\n\n£10 on the door\, subject to capacity\, 
 drink not included.\n\nDon’t miss the chance to celebrate in style!\n\n&
 nbsp\;
ATTACH;FMTTYPE=image/jpeg:https://www.lovewokingham.co.uk/wp-content/uploa
 ds/2025/09/539101068_1274615981341777_8794490542719420015_n.jpg
CATEGORIES:Mailchimp Events
LOCATION:Sit & Sip\, 8 Peach Place\, Wokingham\, Berkshire\, RG40 1LY\, Uni
 ted Kingdom
GEO:51.410641;-0.832781
X-APPLE-STRUCTURED-LOCATION;VALUE=URI;X-ADDRESS=8 Peach Place\, Wokingham\,
  Berkshire\, RG40 1LY\, United Kingdom;X-APPLE-RADIUS=100;X-TITLE=Sit & Si
 p:geo:51.410641,-0.832781
END:VEVENT
BEGIN:VTIMEZONE
TZID:Europe/London
X-LIC-LOCATION:Europe/London
BEGIN:STANDARD
DTSTART:20251026T010000
TZOFFSETFROM:+0100
TZOFFSETTO:+0000
TZNAME:GMT
END:STANDARD
END:VTIMEZONE
END:VCALENDAR