BEGIN:VCALENDAR
VERSION:2.0
PRODID:-//wp-events-plugin.com//7.2.2.1//EN
BEGIN:VEVENT
UID:562@lovewokingham.co.uk
DTSTART;TZID=Europe/London:20240928T120000
DTEND;TZID=Europe/London:20240929T230000
DTSTAMP:20240918T113519Z
URL:https://www.lovewokingham.co.uk/events/oktoberfest-sit-sip
SUMMARY:Oktoberfest Sit & Sip
DESCRIPTION:Peach Place. Don't miss it!
ATTACH;FMTTYPE=image/jpeg:https://www.lovewokingham.co.uk/wp-content/uploa
 ds/2024/04/oktoberfest2-1024x1024-1.jpg
CATEGORIES:Mailchimp Events
LOCATION:Sit & Sip\, 8 Peach Place\, Wokingham\, Berkshire\, RG40 1LY\, Uni
 ted Kingdom
GEO:51.410641;-0.832781
X-APPLE-STRUCTURED-LOCATION;VALUE=URI;X-ADDRESS=8 Peach Place\, Wokingham\,
  Berkshire\, RG40 1LY\, United Kingdom;X-APPLE-RADIUS=100;X-TITLE=Sit & Si
 p:geo:51.410641,-0.832781
END:VEVENT
BEGIN:VTIMEZONE
TZID:Europe/London
X-LIC-LOCATION:Europe/London
BEGIN:DAYLIGHT
DTSTART:20240331T020000
TZOFFSETFROM:+0000
TZOFFSETTO:+0100
TZNAME:BST
END:DAYLIGHT
END:VTIMEZONE
END:VCALENDAR