BEGIN:VCALENDAR
VERSION:2.0
PRODID:-//wp-events-plugin.com//7.2.2.1//EN
BEGIN:VEVENT
UID:892@lovewokingham.co.uk
DTSTART;TZID=Europe/London:20250927T120000
DTEND;TZID=Europe/London:20250927T230000
DTSTAMP:20250716T131502Z
URL:https://www.lovewokingham.co.uk/events/oktoberfest-wokingham
SUMMARY:Oktoberfest Wokingham
DESCRIPTION:It's back in Peach Place\, hosted by Sit &amp\; Sip.\n\nExpect 
 plenty of tasty beers\, music and entertainment.\n\nLederhosen optional
ATTACH;FMTTYPE=image/jpeg:https://www.lovewokingham.co.uk/wp-content/uploa
 ds/2025/07/495628556_1183213407148702_8867494278887756431_n.jpg
CATEGORIES:Mailchimp Events
LOCATION:Sit & Sip\, 8 Peach Place\, Wokingham\, RG40 1LY\, United Kingdom
X-APPLE-STRUCTURED-LOCATION;VALUE=URI;X-ADDRESS=8 Peach Place\, Wokingham\,
  RG40 1LY\, United Kingdom;X-APPLE-RADIUS=100;X-TITLE=Sit & Sip:geo:0,0
END:VEVENT
BEGIN:VTIMEZONE
TZID:Europe/London
X-LIC-LOCATION:Europe/London
BEGIN:DAYLIGHT
DTSTART:20250330T020000
TZOFFSETFROM:+0000
TZOFFSETTO:+0100
TZNAME:BST
END:DAYLIGHT
END:VTIMEZONE
END:VCALENDAR