BEGIN:VCALENDAR
VERSION:2.0
PRODID:-//wp-events-plugin.com//7.2.2.1//EN
BEGIN:VEVENT
UID:544@lovewokingham.co.uk
DTSTART;TZID=Europe/London:20240408T103000
DTEND;TZID=Europe/London:20240408T154500
DTSTAMP:20240329T185339Z
URL:https://www.lovewokingham.co.uk/events/one-world-animals-wokingham
SUMMARY:One World Animals - Wokingham
DESCRIPTION:Meet & learn about animals
ATTACH;FMTTYPE=image/jpeg:https://www.lovewokingham.co.uk/wp-content/uploa
 ds/2024/03/428643669_1096735761774122_7658438684411107667_n-e1711737787404
 .jpg
CATEGORIES:Mailchimp Events
LOCATION:St Paul's Parish Rooms\, 40 Reading Road\, Wokingham\, Berkshire\,
  RG41 1EH\, United Kingdom
X-APPLE-STRUCTURED-LOCATION;VALUE=URI;X-ADDRESS=40 Reading Road\, Wokingham
 \, Berkshire\, RG41 1EH\, United Kingdom;X-APPLE-RADIUS=100;X-TITLE=St Pau
 l's Parish Rooms:geo:0,0
END:VEVENT
BEGIN:VTIMEZONE
TZID:Europe/London
X-LIC-LOCATION:Europe/London
BEGIN:DAYLIGHT
DTSTART:20240331T020000
TZOFFSETFROM:+0000
TZOFFSETTO:+0100
TZNAME:BST
END:DAYLIGHT
END:VTIMEZONE
END:VCALENDAR