BEGIN:VCALENDAR
VERSION:2.0
PRODID:-//wp-events-plugin.com//7.2.2.1//EN
BEGIN:VEVENT
UID:71@lovewokingham.co.uk
DTSTART;TZID=Europe/London:20210814T204500
DTEND;TZID=Europe/London:20210814T224500
DTSTAMP:20210701T142029Z
URL:https://www.lovewokingham.co.uk/events/open-air-cinema-the-greatest-sh
 owman
SUMMARY:Open Air Cinema - The Greatest Showman
DESCRIPTION:Step right up... and into the spellbinding imagination of a man
  who set out to reveal that life itself can be the most thrilling show of 
 all.
ATTACH;FMTTYPE=image/jpeg:https://www.lovewokingham.co.uk/wp-content/uploa
 ds/2021/07/161319638_4126842840693878_5429073743252878261_n.jpg
CATEGORIES:Mailchimp Events
LOCATION:Dinton Pastures Country Park\,\, Davis Street\, Hurst\, Wokingham\
 , RG10 0TH\, United Kingdom
GEO:51.442424;-0.867744
X-APPLE-STRUCTURED-LOCATION;VALUE=URI;X-ADDRESS=Davis Street\, Hurst\, Woki
 ngham\, RG10 0TH\, United Kingdom;X-APPLE-RADIUS=100;X-TITLE=Dinton Pastur
 es Country Park\,:geo:51.442424,-0.867744
END:VEVENT
BEGIN:VTIMEZONE
TZID:Europe/London
X-LIC-LOCATION:Europe/London
BEGIN:DAYLIGHT
DTSTART:20210328T020000
TZOFFSETFROM:+0000
TZOFFSETTO:+0100
TZNAME:BST
END:DAYLIGHT
END:VTIMEZONE
END:VCALENDAR