BEGIN:VCALENDAR
VERSION:2.0
PRODID:-//wp-events-plugin.com//7.2.2.1//EN
BEGIN:VEVENT
UID:814@lovewokingham.co.uk
DTSTART;TZID=Europe/London:20250817T110000
DTEND;TZID=Europe/London:20250817T160000
DTSTAMP:20250319T143501Z
URL:https://www.lovewokingham.co.uk/events/oyf-summer-fun-day-2
SUMMARY:OYF Summer Fun Day
DESCRIPTION:The Ollie Young Foundation Summer Fun Day is the biggest annual
  event held in memory of Ollie and all the things he loved!Bring along a p
 icnic or enjoy some of the tasty food on offer including a BBQ\, cakes and
  more.Licensed bar\, music\, inflatables\, face painting\, games\, stalls\
 , classic cars and much more.Although it's FREE ENTRY\, due to licensing l
 aws they do need to charge for the use of the car park - which is £1.Redd
 am House is also easily accessible via foot.\n
ATTACH;FMTTYPE=image/jpeg:https://www.lovewokingham.co.uk/wp-content/uploa
 ds/2025/03/475808932_1051063827062842_8071762516713189130_n-e1742394886142
 .jpg
CATEGORIES:Mailchimp Events
LOCATION:Reddam\, Bearwood Road\, Sindlesham\, Wokingham\, RG41 5BG\, Unite
 d Kingdom
X-APPLE-STRUCTURED-LOCATION;VALUE=URI;X-ADDRESS=Bearwood Road\, Sindlesham\
 , Wokingham\, RG41 5BG\, United Kingdom;X-APPLE-RADIUS=100;X-TITLE=Reddam:
 geo:0,0
END:VEVENT
BEGIN:VTIMEZONE
TZID:Europe/London
X-LIC-LOCATION:Europe/London
BEGIN:DAYLIGHT
DTSTART:20250330T020000
TZOFFSETFROM:+0000
TZOFFSETTO:+0100
TZNAME:BST
END:DAYLIGHT
END:VTIMEZONE
END:VCALENDAR