BEGIN:VCALENDAR
VERSION:2.0
PRODID:-//wp-events-plugin.com//7.2.2.1//EN
BEGIN:VEVENT
UID:162@lovewokingham.co.uk
DTSTART;TZID=Europe/London:20221209T190000
DTEND;TZID=Europe/London:20221209T213000
DTSTAMP:20221130T171417Z
URL:https://www.lovewokingham.co.uk/events/paint-prosecco-workshop
SUMMARY:Paint & Prosecco Workshop
DESCRIPTION:In support of First Days Charity
ATTACH;FMTTYPE=image/jpeg:https://www.lovewokingham.co.uk/wp-content/uploa
 ds/2022/11/316244475_213395421037286_5809788570502400489_n-e1669828443805.
 jpg
CATEGORIES:Mailchimp Events
LOCATION:Elevate Centre\, Seymour House\,  The Courtyard\,  Denmark Street\
 , Wokingham\, RG40 2AZ\, United Kingdom
GEO:51.408986;-0.834831
X-APPLE-STRUCTURED-LOCATION;VALUE=URI;X-ADDRESS=Seymour House\,  The Courty
 ard\,  Denmark Street\, Wokingham\, RG40 2AZ\, United Kingdom;X-APPLE-RADI
 US=100;X-TITLE=Elevate Centre:geo:51.408986,-0.834831
END:VEVENT
BEGIN:VTIMEZONE
TZID:Europe/London
X-LIC-LOCATION:Europe/London
BEGIN:STANDARD
DTSTART:20221030T010000
TZOFFSETFROM:+0100
TZOFFSETTO:+0000
TZNAME:GMT
END:STANDARD
END:VTIMEZONE
END:VCALENDAR