BEGIN:VCALENDAR
VERSION:2.0
PRODID:-//wp-events-plugin.com//7.2.2.1//EN
BEGIN:VEVENT
UID:903@lovewokingham.co.uk
DTSTART;TZID=Europe/London:20250914T093000
DTEND;TZID=Europe/London:20250914T103000
DTSTAMP:20250831T124656Z
URL:https://www.lovewokingham.co.uk/events/park-yoga-10
SUMMARY:Park Yoga
DESCRIPTION:Every Sunday 9.30am - 10.30am\n\nFREE\n\nBring a mat or towel a
 nd drink\n\nDonations to Park Yoga are welcome\n\nSponsored by Wokingham T
 own Council\n\nDetails: https://www.facebook.com/parkyogawokingham/?local
 e=en_GB\n\n&nbsp\;
ATTACH;FMTTYPE=image/jpeg:https://www.lovewokingham.co.uk/wp-content/uploa
 ds/2025/04/IMG-20240602-WA0000.jpg
CATEGORIES:Mailchimp Events
LOCATION:Howard Palmer Gardens\, Cock Pit Path\, Wokingham\, RG40 2BX\, Ber
 kshire\, United Kingdom
GEO:51.409306;-0.832254
X-APPLE-STRUCTURED-LOCATION;VALUE=URI;X-ADDRESS=Cock Pit Path\, Wokingham\,
  RG40 2BX\, Berkshire\, United Kingdom;X-APPLE-RADIUS=100;X-TITLE=Howard P
 almer Gardens:geo:51.409306,-0.832254
END:VEVENT
BEGIN:VTIMEZONE
TZID:Europe/London
X-LIC-LOCATION:Europe/London
BEGIN:DAYLIGHT
DTSTART:20250330T020000
TZOFFSETFROM:+0000
TZOFFSETTO:+0100
TZNAME:BST
END:DAYLIGHT
END:VTIMEZONE
END:VCALENDAR