BEGIN:VCALENDAR
VERSION:2.0
PRODID:-//wp-events-plugin.com//7.2.2.1//EN
BEGIN:VEVENT
UID:113@lovewokingham.co.uk
DTSTART;TZID=Europe/London:20220529T093000
DTEND;TZID=Europe/London:20220529T103000
DTSTAMP:20220525T124949Z
URL:https://www.lovewokingham.co.uk/events/park-yoga-at-howard-palmer-gard
 ens
SUMMARY:Park Yoga at Howard Palmer Gardens
DESCRIPTION:Come and join in. All welcome
ATTACH;FMTTYPE=image/jpeg:https://www.lovewokingham.co.uk/wp-content/uploa
 ds/2022/05/277304450_168219578881343_8848118733486124526_n.jpg
LOCATION:Howard Palmer Gardens\, Cock Pit Path\, Wokingham\, RG40 2BX\, Ber
 kshire\, United Kingdom
GEO:51.409306;-0.832254
X-APPLE-STRUCTURED-LOCATION;VALUE=URI;X-ADDRESS=Cock Pit Path\, Wokingham\,
  RG40 2BX\, Berkshire\, United Kingdom;X-APPLE-RADIUS=100;X-TITLE=Howard P
 almer Gardens:geo:51.409306,-0.832254
END:VEVENT
BEGIN:VTIMEZONE
TZID:Europe/London
X-LIC-LOCATION:Europe/London
BEGIN:DAYLIGHT
DTSTART:20220327T020000
TZOFFSETFROM:+0000
TZOFFSETTO:+0100
TZNAME:BST
END:DAYLIGHT
END:VTIMEZONE
END:VCALENDAR