BEGIN:VCALENDAR
VERSION:2.0
PRODID:-//wp-events-plugin.com//7.2.2.1//EN
BEGIN:VEVENT
UID:263@lovewokingham.co.uk
DTSTART;TZID=Europe/London:20230508T113000
DTEND;TZID=Europe/London:20230508T160000
DTSTAMP:20230425T145626Z
URL:https://www.lovewokingham.co.uk/events/party-in-the-paddock
SUMMARY:Party in the Paddock
DESCRIPTION:At Home Grange Craft Village
ATTACH;FMTTYPE=image/jpeg:https://www.lovewokingham.co.uk/wp-content/uploa
 ds/2023/04/341060074_782054046373386_7792495201550515123_n.jpg
CATEGORIES:Mailchimp Events
LOCATION:Holme Grange Craft Village\, Heathlands Road\, Wokingham\, Berkshi
 re\, United Kingdom
X-APPLE-STRUCTURED-LOCATION;VALUE=URI;X-ADDRESS=Heathlands Road\, Wokingham
 \, Berkshire\, United Kingdom;X-APPLE-RADIUS=100;X-TITLE=Holme Grange Craf
 t Village:geo:0,0
END:VEVENT
BEGIN:VTIMEZONE
TZID:Europe/London
X-LIC-LOCATION:Europe/London
BEGIN:DAYLIGHT
DTSTART:20230326T020000
TZOFFSETFROM:+0000
TZOFFSETTO:+0100
TZNAME:BST
END:DAYLIGHT
END:VTIMEZONE
END:VCALENDAR