BEGIN:VCALENDAR
VERSION:2.0
PRODID:-//wp-events-plugin.com//7.2.2.1//EN
BEGIN:VEVENT
UID:810@lovewokingham.co.uk
DTSTART;TZID=Europe/London:20250607T150000
DTEND;TZID=Europe/London:20250607T210000
DTSTAMP:20250319T135234Z
URL:https://www.lovewokingham.co.uk/events/party-in-the-park-2
SUMMARY:Party in the Park
DESCRIPTION:Party in the Park is back again this June! And as always it's F
 REE!There's a fantastic line up to look forward to...- Iris are kicking th
 ings off at 3pm. Iris is a three part country act. Expect girl power and f
 antastic vocals to get us all up and dancing to covers of hits like '9-5'\
 , 'Leaving on a Jet Plane' and 'Man\, I Feel Like a Woman'.\n\n- Next on a
 re SuperSKAs an authentic tribute to ska and two tone. With Bestival under
  their belt and praise from legendary ska band The Specials you better get
  practicing your skanking.\n- The Magnets are dubbed the UK's no 1 acapell
 a supergroup. Their vocal and beatboxing talents have led them to a record
  deal with EMI and have performed alongside Blondie\, Bryan Adams and Tom 
 Jones.\n\n- Fully Funktional make their return as the headline act. A Woki
 ngham favourite\, bringing the party anthems and boundless energy to end t
 he evening with a real high.\n\nAs always\, there'll be street food &amp\;
  drink alongside a number of Elms Park businesses who'll be joining in the
  day. Picnics welcome too!\nNo glass on the field please. Use bins provide
 d. Accessability area to the left of the stage.For more https://www.wokin
 gham-tc.gov.uk/partyinthepark/
ATTACH;FMTTYPE=image/jpeg:https://www.lovewokingham.co.uk/wp-content/uploa
 ds/2025/03/thumbnail_PITP25-2-InstaFB-Post.png
CATEGORIES:Mailchimp Events
LOCATION:Elms Field\, Wellington Rd\, Wokingham\, Berkshire\, RG40 1BN\, Un
 ited Kingdom
GEO:51.409089;-0.8399
X-APPLE-STRUCTURED-LOCATION;VALUE=URI;X-ADDRESS=Wellington Rd\, Wokingham\,
  Berkshire\, RG40 1BN\, United Kingdom;X-APPLE-RADIUS=100;X-TITLE=Elms Fie
 ld:geo:51.409089,-0.8399
END:VEVENT
BEGIN:VTIMEZONE
TZID:Europe/London
X-LIC-LOCATION:Europe/London
BEGIN:DAYLIGHT
DTSTART:20250330T020000
TZOFFSETFROM:+0000
TZOFFSETTO:+0100
TZNAME:BST
END:DAYLIGHT
END:VTIMEZONE
END:VCALENDAR