BEGIN:VCALENDAR
VERSION:2.0
PRODID:-//wp-events-plugin.com//7.2.2.1//EN
BEGIN:VEVENT
UID:248@lovewokingham.co.uk
DTSTART;TZID=Europe/London:20230603T150000
DTEND;TZID=Europe/London:20230603T210000
DTSTAMP:20230425T094446Z
URL:https://www.lovewokingham.co.uk/events/party-in-the-park-2023
SUMMARY:Party in the Park 2023!
DESCRIPTION:Live music\, street food and fantastic atmosphere.
ATTACH;FMTTYPE=image/jpeg:https://www.lovewokingham.co.uk/wp-content/uploa
 ds/2023/04/FACEBOOK-Wokingham-Party-in-the-Park-23.png
CATEGORIES:Mailchimp Events
LOCATION:Elms Field\, Wellington Rd\, Wokingham\, Berkshire\, RG40 1BN\, Un
 ited Kingdom
GEO:51.409089;-0.8399
X-APPLE-STRUCTURED-LOCATION;VALUE=URI;X-ADDRESS=Wellington Rd\, Wokingham\,
  Berkshire\, RG40 1BN\, United Kingdom;X-APPLE-RADIUS=100;X-TITLE=Elms Fie
 ld:geo:51.409089,-0.8399
END:VEVENT
BEGIN:VTIMEZONE
TZID:Europe/London
X-LIC-LOCATION:Europe/London
BEGIN:DAYLIGHT
DTSTART:20230326T020000
TZOFFSETFROM:+0000
TZOFFSETTO:+0100
TZNAME:BST
END:DAYLIGHT
END:VTIMEZONE
END:VCALENDAR