BEGIN:VCALENDAR
VERSION:2.0
PRODID:-//wp-events-plugin.com//7.2.2.1//EN
BEGIN:VEVENT
UID:796@lovewokingham.co.uk
DTSTART;TZID=Europe/London:20250302T150000
DTEND;TZID=Europe/London:20250302T180000
DTSTAMP:20250301T115829Z
URL:https://www.lovewokingham.co.uk/events/piano-bar-at-salty-olive
SUMMARY:Piano Bar at Salty Olive
DESCRIPTION:Every Sunday 3-6pm\n\nWelcome to the Salty Olive Piano Bar\, in
  partnership with the one &amp\; only\, Mr Pauly Zarb.\n\nThey are incredi
 bly excited to offer something completely unique to Wokingham! In traditio
 nal Piano Bar style\, Pauly will entertain you with an afternoon of singal
 ong classics\, from the likes of Billy Joel\, Elton John.. and many\, many
  more.\n\nYou'll also enjoy our full tapas &amp\; bar menu throughout the 
 afternoon\, and 2 for 1 on draft Estrella &amp\; our Cocktail of the Day b
 etween 3pm-4pm!\n\nSpaces are limited\, so we recommend you book early! h
 ttps://www.sevenrooms.com/events/saltyolive
ATTACH;FMTTYPE=image/jpeg:https://www.lovewokingham.co.uk/wp-content/uploa
 ds/2025/02/thumbnail_Cocktail-Piano.png
CATEGORIES:Mailchimp Events
LOCATION:Salty Olive\, 5 Elms Rd\, Wokingham \, Berkshire\, RG40 2FE\, Unit
 ed Kingdom
X-APPLE-STRUCTURED-LOCATION;VALUE=URI;X-ADDRESS=5 Elms Rd\, Wokingham \, Be
 rkshire\, RG40 2FE\, United Kingdom;X-APPLE-RADIUS=100;X-TITLE=Salty Olive
 :geo:0,0
END:VEVENT
BEGIN:VTIMEZONE
TZID:Europe/London
X-LIC-LOCATION:Europe/London
BEGIN:STANDARD
DTSTART:20241027T010000
TZOFFSETFROM:+0100
TZOFFSETTO:+0000
TZNAME:GMT
END:STANDARD
END:VTIMEZONE
END:VCALENDAR