BEGIN:VCALENDAR
VERSION:2.0
PRODID:-//wp-events-plugin.com//7.2.2.1//EN
BEGIN:VEVENT
UID:233@lovewokingham.co.uk
DTSTART;TZID=Europe/London:20230407T210000
DTEND;TZID=Europe/London:20230407T230000
DTSTAMP:20230323T142311Z
URL:https://www.lovewokingham.co.uk/events/piston-broke-the-broad-street-t
 avern
SUMMARY:Piston Broke @ The Broad Street Tavern
DESCRIPTION:First appearance
ATTACH;FMTTYPE=image/jpeg:https://www.lovewokingham.co.uk/wp-content/uploa
 ds/2023/03/piston.jpg
CATEGORIES:Mailchimp Events
LOCATION:The Broad Street Tavern\, 29 Broad Street\, Wokingham\, Berkshire\
 , RG40 1AU\, United Kingdom
X-APPLE-STRUCTURED-LOCATION;VALUE=URI;X-ADDRESS=29 Broad Street\, Wokingham
 \, Berkshire\, RG40 1AU\, United Kingdom;X-APPLE-RADIUS=100;X-TITLE=The Br
 oad Street Tavern:geo:0,0
END:VEVENT
BEGIN:VTIMEZONE
TZID:Europe/London
X-LIC-LOCATION:Europe/London
BEGIN:DAYLIGHT
DTSTART:20230326T020000
TZOFFSETFROM:+0000
TZOFFSETTO:+0100
TZNAME:BST
END:DAYLIGHT
END:VTIMEZONE
END:VCALENDAR