BEGIN:VCALENDAR
VERSION:2.0
PRODID:-//wp-events-plugin.com//7.2.2.1//EN
BEGIN:VEVENT
UID:636@lovewokingham.co.uk
DTSTART;TZID=Europe/London:20240720T120000
DTEND;TZID=Europe/London:20240720T200000
DTSTAMP:20240704T170709Z
URL:https://www.lovewokingham.co.uk/events/project-barista-summer-beer-fes
 tival
SUMMARY:Project Barista - Summer Beer Festival
DESCRIPTION:Project Barista is back! If you've not heard of it before\, it'
 s our way of celebrating the incredible partnership of coffee and beer in 
 the form of a family friendly summer beer festival\n\n\n Saturday 20th Ju
 ly\n12pm - 8pm / Arrive anytime\nSiren Tap Yard\, Finchampstead\, RG40 4RF
 \n30+ lines of beer from Siren\, local friends and further afield\nWines &
 amp\; soft drinks available\nCoffee Roasters\nBouncy Castle /  Face Pain
 ting\nStreet food from Killa Waffles\, Tacitos &amp\; Siren Street Food\nD
 Js and live music\nPlenty of outdoors and undercover seating\nCar parking 
 available / Local buses\nTicket includes entry &amp\; festival cup to keep
  £5.50 https://www.gigantic.com/project-barista-siren-craft-brew-tickets
 /reading-siren-craft-brew/2024-07-20-13-00\nThese events do tend to sell o
 ut\, don't miss out\, book your ticket asap!\n\n\n\nFor parents - Kids are
  welcome and we have a bouncy castle and face painting to help keep your l
 ittle ones entertained. No ticket required for under 18s but they must be 
 accompanied by a paying 18+ ticket holder.
ATTACH;FMTTYPE=image/jpeg:https://www.lovewokingham.co.uk/wp-content/uploa
 ds/2024/06/448854651_781626320830173_1045923439665413323_n.jpg
CATEGORIES:Mailchimp Events
LOCATION:Siren Craft Brew\, 18 Marino Way\, Hogwood Industrial Estate\, Fin
 champstead\, Wokingham\, United Kingdom
X-APPLE-STRUCTURED-LOCATION;VALUE=URI;X-ADDRESS=18 Marino Way\, Hogwood Ind
 ustrial Estate\, Finchampstead\, Wokingham\, United Kingdom;X-APPLE-RADIUS
 =100;X-TITLE=Siren Craft Brew:geo:0,0
END:VEVENT
BEGIN:VTIMEZONE
TZID:Europe/London
X-LIC-LOCATION:Europe/London
BEGIN:DAYLIGHT
DTSTART:20240331T020000
TZOFFSETFROM:+0000
TZOFFSETTO:+0100
TZNAME:BST
END:DAYLIGHT
END:VTIMEZONE
END:VCALENDAR