BEGIN:VCALENDAR
VERSION:2.0
PRODID:-//wp-events-plugin.com//7.2.2.1//EN
BEGIN:VEVENT
UID:939@lovewokingham.co.uk
DTSTART;TZID=Europe/London:20251026T103000
DTEND;TZID=Europe/London:20251026T153000
DTSTAMP:20250930T164505Z
URL:https://www.lovewokingham.co.uk/events/pumpkin-fair-2
SUMMARY:Pumpkin Fair
DESCRIPTION:The Pumpkin Fair returns for its 3rd year!! Join us for some Au
 tumnal fun at Dinton Pastures this October!\nWith Food &amp\; Drink\, The 
 Pumpkin Witch Stilt\, Magic Bubbles with Jack Pumpkin\, Craft Stalls\, Cos
 tume Competition\, Rides\, Bungee Trampolines &amp\; Soft-play\, Climbing 
 Wall\, Games &amp\; More!\nAdults £1 entry\, Children FREE entry!\nNo Boo
 king Required\nUsual parking charges apply\nDogs welcome\n\nBy JL Events
ATTACH;FMTTYPE=image/jpeg:https://www.lovewokingham.co.uk/wp-content/uploa
 ds/2025/09/496015244_661213770236969_6493696850914986174_n.jpg
CATEGORIES:Mailchimp Events
LOCATION:Dinton Pastures Country Park\,\, Davis Street\, Hurst\, Wokingham\
 , RG10 0TH\, United Kingdom
GEO:51.442424;-0.867744
X-APPLE-STRUCTURED-LOCATION;VALUE=URI;X-ADDRESS=Davis Street\, Hurst\, Woki
 ngham\, RG10 0TH\, United Kingdom;X-APPLE-RADIUS=100;X-TITLE=Dinton Pastur
 es Country Park\,:geo:51.442424,-0.867744
END:VEVENT
BEGIN:VTIMEZONE
TZID:Europe/London
X-LIC-LOCATION:Europe/London
BEGIN:STANDARD
DTSTART:20251026T010000
TZOFFSETFROM:+0100
TZOFFSETTO:+0000
TZNAME:GMT
END:STANDARD
END:VTIMEZONE
END:VCALENDAR