BEGIN:VCALENDAR
VERSION:2.0
PRODID:-//wp-events-plugin.com//7.2.2.1//EN
BEGIN:VEVENT
UID:782@lovewokingham.co.uk
DTSTART;TZID=Europe/London:20250207T193000
DTEND;TZID=Europe/London:20250207T213000
DTSTAMP:20250129T172844Z
URL:https://www.lovewokingham.co.uk/events/quiz-night-ollie-young-foundati
 on
SUMMARY:Quiz Night - Ollie Young Foundation
DESCRIPTION:Charity Quiz Night hosted by the OYF on Friday 7th Feb 2025 at 
 St Crispins School\, Wokingham\nBring your own drinks and snacksDoors open
  at 7pm. Quiz starts 7.30Tables of up to 8\, adults only.Enter as a team o
 r individually£10 per player. Book: https://www.ollieyoungfoundation.org/
 events/quiz-night-10-octoberRaffle and games in between rounds\n\n
ATTACH;FMTTYPE=image/jpeg:https://www.lovewokingham.co.uk/wp-content/uploa
 ds/2025/01/473568331_1042009657968259_3516667887229305842_n.jpg
CATEGORIES:Mailchimp Events
LOCATION:St Crispins School Hall\, London Road\, Wokingham\, Berkshire\, RG
 40 1SS\, United Kingdom
X-APPLE-STRUCTURED-LOCATION;VALUE=URI;X-ADDRESS=London Road\, Wokingham\, B
 erkshire\, RG40 1SS\, United Kingdom;X-APPLE-RADIUS=100;X-TITLE=St Crispin
 s School Hall:geo:0,0
END:VEVENT
BEGIN:VTIMEZONE
TZID:Europe/London
X-LIC-LOCATION:Europe/London
BEGIN:STANDARD
DTSTART:20241027T010000
TZOFFSETFROM:+0100
TZOFFSETTO:+0000
TZNAME:GMT
END:STANDARD
END:VTIMEZONE
END:VCALENDAR