BEGIN:VCALENDAR
VERSION:2.0
PRODID:-//wp-events-plugin.com//7.2.2.1//EN
BEGIN:VEVENT
UID:239@lovewokingham.co.uk
DTSTART;TZID=Europe/London:20230403T200000
DTEND;TZID=Europe/London:20230403T220000
DTSTAMP:20230331T094231Z
URL:https://www.lovewokingham.co.uk/events/quiz-night-sedero-lounge
SUMMARY:Quiz Night Sedero Lounge
DESCRIPTION:Weekly Quiz. Put it in your diary!
ATTACH;FMTTYPE=image/jpeg:https://www.lovewokingham.co.uk/wp-content/uploa
 ds/2023/03/330791379_1863463020692980_8351106001662673063_n.jpg
CATEGORIES:Mailchimp Events
LOCATION:Sedero Lounge\, Bailey's House\, Central Walk\, Wokingham\, Berksh
 ire\, RG40 1AZ\, United Kingdom
X-APPLE-STRUCTURED-LOCATION;VALUE=URI;X-ADDRESS=Bailey's House\, Central Wa
 lk\, Wokingham\, Berkshire\, RG40 1AZ\, United Kingdom;X-APPLE-RADIUS=100;
 X-TITLE=Sedero Lounge:geo:0,0
END:VEVENT
BEGIN:VTIMEZONE
TZID:Europe/London
X-LIC-LOCATION:Europe/London
BEGIN:DAYLIGHT
DTSTART:20230326T020000
TZOFFSETFROM:+0000
TZOFFSETTO:+0100
TZNAME:BST
END:DAYLIGHT
END:VTIMEZONE
END:VCALENDAR