BEGIN:VCALENDAR
VERSION:2.0
PRODID:-//wp-events-plugin.com//7.2.2.1//EN
BEGIN:VEVENT
UID:899@lovewokingham.co.uk
DTSTART;TZID=Europe/London:20251026T103000
DTEND;TZID=Europe/London:20251026T133000
DTSTAMP:20250716T140419Z
URL:https://www.lovewokingham.co.uk/events/reme-freedom-of-wokingham-parad
 e
SUMMARY:REME Freedom of Wokingham Parade
DESCRIPTION:Sunday 26th October 2025 - REME Freedom of Wokingham Parade.Joi
 n us for a special day as a 40-piece Military band\, a 120 strong continge
 nt of REME regulars\, reserves\, cadets and veterans exercise their Freedo
 m of Wokingham by marching through the town\, joining back up at Market Pl
 ace for speeches\, presentations and The National Anthem.\n\n\nSpecific ti
 mings:10.30am – 11am Parade assembles and Royal Salute – Market Place1
 1am – 12.15pm Parade and speeches – Rose St\, Wilshire Rd\, Peach Stre
 et\, Market Place10.30am – 1.30pm Stalls\, Corps Engagement Team\, Milit
 ary Vehicle – Market Place\n\nParade route: Rose Street\, Wiltshire Road
 \, Peach Street\, Market Place.\n\nAlongside the parade\, Market Place wil
 l play host to stalls\, military vehicles and the corps engagement team de
 monstrating 3D printing\, drones and other military equipment\nRoad closur
 es: Rolling road closures will be in place around the route. Denmark Stree
 t will be closed all day.
ATTACH;FMTTYPE=image/jpeg:https://www.lovewokingham.co.uk/wp-content/uploa
 ds/2025/07/thumbnail_WTC-REME-Parade_156.jpg
CATEGORIES:Mailchimp Events
LOCATION:Wokingham Market Place\, Market Place\, Wokingham \, Berkshire\, R
 G40 1AS\, United Kingdom
X-APPLE-STRUCTURED-LOCATION;VALUE=URI;X-ADDRESS=Market Place\, Wokingham \,
  Berkshire\, RG40 1AS\, United Kingdom;X-APPLE-RADIUS=100;X-TITLE=Wokingha
 m Market Place:geo:0,0
END:VEVENT
BEGIN:VTIMEZONE
TZID:Europe/London
X-LIC-LOCATION:Europe/London
BEGIN:STANDARD
DTSTART:20251026T010000
TZOFFSETFROM:+0100
TZOFFSETTO:+0000
TZNAME:GMT
END:STANDARD
END:VTIMEZONE
END:VCALENDAR