BEGIN:VCALENDAR
VERSION:2.0
PRODID:-//wp-events-plugin.com//7.2.2.1//EN
BEGIN:VEVENT
UID:147@lovewokingham.co.uk
DTSTART;TZID=Europe/London:20221208T194500
DTEND;TZID=Europe/London:20221217T221500
DTSTAMP:20221103T113803Z
URL:https://www.lovewokingham.co.uk/events/rules-for-living-wokingham-thea
 tre
SUMMARY:Rules For Living - Wokingham Theatre
DESCRIPTION:Time-honoured rivalries and resentments will out
ATTACH;FMTTYPE=image/jpeg:https://www.lovewokingham.co.uk/wp-content/uploa
 ds/2022/11/WokinghamTheatre-prods-RL-sidebar-1647003540.jpg
CATEGORIES:Mailchimp Events
LOCATION:Wokingham Theatre\, Twyford Road\, Wokingham\, Berkshire\, RG405TU
 \, United Kingdom
GEO:51.420902;-0.840946
X-APPLE-STRUCTURED-LOCATION;VALUE=URI;X-ADDRESS=Twyford Road\, Wokingham\, 
 Berkshire\, RG405TU\, United Kingdom;X-APPLE-RADIUS=100;X-TITLE=Wokingham 
 Theatre:geo:51.420902,-0.840946
END:VEVENT
BEGIN:VTIMEZONE
TZID:Europe/London
X-LIC-LOCATION:Europe/London
BEGIN:STANDARD
DTSTART:20221030T010000
TZOFFSETFROM:+0100
TZOFFSETTO:+0000
TZNAME:GMT
END:STANDARD
END:VTIMEZONE
END:VCALENDAR