BEGIN:VCALENDAR
VERSION:2.0
PRODID:-//wp-events-plugin.com//7.2.2.1//EN
BEGIN:VEVENT
UID:968@lovewokingham.co.uk
DTSTART;TZID=Europe/London:20251220T033000
DTEND;TZID=Europe/London:20251220T063000
DTSTAMP:20251125T132049Z
URL:https://www.lovewokingham.co.uk/events/saints-present-the-snowman-wall
 ace-gromit
SUMMARY:The Snowman & Wallace & Gromit
DESCRIPTION:Wow! Saint Sebastian Band are back at Wokingham Baptist Church 
 this Christmas with a double Christmas Cracker as they are not only put on
  a showing of 'The Snowman' at 3.30pm\, but also our debut showing of Wall
 ace and Gromit's 'A Grand Day Out' at 6.30pm.\n\nBoth concerts will includ
 e plenty of extra Christmas Wendsleydale (Cheese).\nTickets are: £14 Adul
 t\, £8 Child (3-18)\, 2 and under on lap free.\nYou can book online http
 s://www.ticketsource.co.uk/stsebswokingham (booking fees apply) or ring 07
 544 774528.\n\n&nbsp\;
ATTACH;FMTTYPE=image/jpeg:https://www.lovewokingham.co.uk/wp-content/uploa
 ds/2025/11/568540265_1371882081611458_1057287648885526500_n.jpg
CATEGORIES:Mailchimp Events
LOCATION:Wokingham Baptist Church\, Milton Road\, Wokingham\, Berkshire\, R
 G40 1DE\, United Kingdom
X-APPLE-STRUCTURED-LOCATION;VALUE=URI;X-ADDRESS=Milton Road\, Wokingham\, B
 erkshire\, RG40 1DE\, United Kingdom;X-APPLE-RADIUS=100;X-TITLE=Wokingham 
 Baptist Church:geo:0,0
END:VEVENT
BEGIN:VTIMEZONE
TZID:Europe/London
X-LIC-LOCATION:Europe/London
BEGIN:STANDARD
DTSTART:20251026T010000
TZOFFSETFROM:+0100
TZOFFSETTO:+0000
TZNAME:GMT
END:STANDARD
END:VTIMEZONE
END:VCALENDAR