BEGIN:VCALENDAR
VERSION:2.0
PRODID:-//wp-events-plugin.com//7.2.2.1//EN
BEGIN:VEVENT
UID:744@lovewokingham.co.uk
DTSTART;TZID=Europe/London:20250107T194500
DTEND;TZID=Europe/London:20250107T203000
DTSTAMP:20241205T102024Z
URL:https://www.lovewokingham.co.uk/events/salsa-foundation-course
SUMMARY:Salsa Foundation Course
DESCRIPTION:A fun and friendly 6-week course\, teaching you the fundamental
 s of salsa dancing. The first class (7th) is a Taster Class so you don't h
 ave to commit yourself to the full course (unless you want to!) until you'
 ve given it a try.\n\nPrices: Taster class on the 7th £10. Full course £
 55 (£10 discount if you have already paid for the taster class).\n\nBook 
 on website https://purplesalsa.co.uk/classes/
ATTACH;FMTTYPE=image/jpeg:https://www.lovewokingham.co.uk/wp-content/uploa
 ds/2024/12/salsa.jpg
CATEGORIES:Mailchimp Events
LOCATION:Emmbrook Sports and Social Club\, Lowther Road\, Wokingham\, Bersh
 ire\, RG411JB\, United Kingdom
GEO:51.4233;-0.857801
X-APPLE-STRUCTURED-LOCATION;VALUE=URI;X-ADDRESS=Lowther Road\, Wokingham\, 
 Bershire\, RG411JB\, United Kingdom;X-APPLE-RADIUS=100;X-TITLE=Emmbrook Sp
 orts and Social Club:geo:51.4233,-0.857801
END:VEVENT
BEGIN:VTIMEZONE
TZID:Europe/London
X-LIC-LOCATION:Europe/London
BEGIN:STANDARD
DTSTART:20241027T010000
TZOFFSETFROM:+0100
TZOFFSETTO:+0000
TZNAME:GMT
END:STANDARD
END:VTIMEZONE
END:VCALENDAR