BEGIN:VCALENDAR
VERSION:2.0
PRODID:-//wp-events-plugin.com//7.2.2.1//EN
BEGIN:VEVENT
UID:764@lovewokingham.co.uk
DTSTART;TZID=Europe/London:20250212T183000
DTEND;TZID=Europe/London:20250212T220000
DTSTAMP:20250129T114745Z
URL:https://www.lovewokingham.co.uk/events/salty-olive-an-audience-with
SUMMARY:Salty Olive...an audience with..
DESCRIPTION:An Audience with Adele… (almost!)\n\nThis will be an unforget
 table evening\, featuring the One &amp\; Only Adele Tribute! (Handpicked b
 y Adele herself on the BBC). Your chance to experience all her hits in an 
 intimate setting at Salty Olive!\n\nTickets from £30—limited availabili
 ty! https://www.sevenrooms.com/events/saltyolive?
ATTACH;FMTTYPE=image/jpeg:https://www.lovewokingham.co.uk/wp-content/uploa
 ds/2025/01/474856598_583424537864409_9038084640251236334_n.jpg
CATEGORIES:Mailchimp Events
LOCATION:Salty Olive\, Unit 5\, Elms Field\, Wokingham\, Berkshire\, RG40 2
 EZ\, United Kingdom
GEO:51.40952;-0.837564
X-APPLE-STRUCTURED-LOCATION;VALUE=URI;X-ADDRESS=Unit 5\, Elms Field\, Wokin
 gham\, Berkshire\, RG40 2EZ\, United Kingdom;X-APPLE-RADIUS=100;X-TITLE=Sa
 lty Olive:geo:51.40952,-0.837564
END:VEVENT
BEGIN:VTIMEZONE
TZID:Europe/London
X-LIC-LOCATION:Europe/London
BEGIN:STANDARD
DTSTART:20241027T010000
TZOFFSETFROM:+0100
TZOFFSETTO:+0000
TZNAME:GMT
END:STANDARD
END:VTIMEZONE
END:VCALENDAR