BEGIN:VCALENDAR
VERSION:2.0
PRODID:-//wp-events-plugin.com//7.2.2.1//EN
BEGIN:VEVENT
UID:840@lovewokingham.co.uk
DTSTART;TZID=Europe/London:20250515T190000
DTEND;TZID=Europe/London:20250515T230000
DTSTAMP:20250327T121420Z
URL:https://www.lovewokingham.co.uk/events/salty-olive-music-quiz-night-wi
 th-pauly-zarb
SUMMARY:Salty Olive Music Quiz Night with Pauly Zarb
DESCRIPTION:Get your team together and join us to continue the fun and laug
 hter.\n\nYour evening will include:\n\nSangria on arrival\nMarinated olive
 s &amp\; fresh tomato bread\nChoice of our mini beef burger with melted ma
 nchego cheese\, marinated chicken burger or mushroom &amp\; halloumi burge
 r\, all served with our signature Patatas Bravas\nTickets £35 pp https:/
 /www.sevenrooms.com/events/saltyolive\n\nLots of fun to be had and prizes 
 to be won!\n\n&nbsp\;
ATTACH;FMTTYPE=image/jpeg:https://www.lovewokingham.co.uk/wp-content/uploa
 ds/2025/03/484446851_17972309465835808_4140368108856715243_n.jpg
CATEGORIES:Mailchimp Events
LOCATION:Salty Olive\, 5 Elms Rd\, Wokingham \, Berkshire\, RG40 2FE\, Unit
 ed Kingdom
X-APPLE-STRUCTURED-LOCATION;VALUE=URI;X-ADDRESS=5 Elms Rd\, Wokingham \, Be
 rkshire\, RG40 2FE\, United Kingdom;X-APPLE-RADIUS=100;X-TITLE=Salty Olive
 :geo:0,0
END:VEVENT
BEGIN:VTIMEZONE
TZID:Europe/London
X-LIC-LOCATION:Europe/London
BEGIN:DAYLIGHT
DTSTART:20250330T020000
TZOFFSETFROM:+0000
TZOFFSETTO:+0100
TZNAME:BST
END:DAYLIGHT
END:VTIMEZONE
END:VCALENDAR