BEGIN:VCALENDAR
VERSION:2.0
PRODID:-//wp-events-plugin.com//7.2.2.1//EN
BEGIN:VEVENT
UID:221@lovewokingham.co.uk
DTSTART;TZID=Europe/London:20230326T190000
DTEND;TZID=Europe/London:20230326T213000
DTSTAMP:20230228T130436Z
URL:https://www.lovewokingham.co.uk/events/second-wind-in-concert
SUMMARY:Second Wind In Concert
DESCRIPTION:A fabulous evening of popular music performed by Bracknell and 
 Wokingham Community Band's Second Wind\, conductor Kevin Ransom.\nTickets:
  £10\, 16 and under £5\nAdvance booking: secondwindbwcb@outlook.com\nAls
 o on the door subject to availability
ATTACH;FMTTYPE=image/jpeg:https://www.lovewokingham.co.uk/wp-content/uploa
 ds/2023/02/329186542_616579616945623_1050029648263802394_n.jpg
CATEGORIES:Mailchimp Events
LOCATION:Wokingham Town Hall\, Market Place\, Wokingham\, Berkshire\, RG40 
 1AS\, United Kingdom
X-APPLE-STRUCTURED-LOCATION;VALUE=URI;X-ADDRESS=Market Place\, Wokingham\, 
 Berkshire\, RG40 1AS\, United Kingdom;X-APPLE-RADIUS=100;X-TITLE=Wokingham
  Town Hall:geo:0,0
END:VEVENT
BEGIN:VTIMEZONE
TZID:Europe/London
X-LIC-LOCATION:Europe/London
BEGIN:DAYLIGHT
DTSTART:20230326T020000
TZOFFSETFROM:+0000
TZOFFSETTO:+0100
TZNAME:BST
END:DAYLIGHT
END:VTIMEZONE
END:VCALENDAR