BEGIN:VCALENDAR
VERSION:2.0
PRODID:-//wp-events-plugin.com//7.2.2.1//EN
BEGIN:VEVENT
UID:327@lovewokingham.co.uk
DTSTART;TZID=Europe/London:20230825T190000
DTEND;TZID=Europe/London:20230825T230000
DTSTAMP:20230730T114607Z
URL:https://www.lovewokingham.co.uk/events/sindlefest
SUMMARY:Sindlefest
DESCRIPTION:In aid of Sue Ryder Duchess of Kent Hospice
ATTACH;FMTTYPE=image/jpeg:https://www.lovewokingham.co.uk/wp-content/uploa
 ds/2023/07/Sindlefest.png
CATEGORIES:Mailchimp Events
LOCATION:Flavell Suite\, Sindlesham Court\, Mole Road\, Wokingham\, RG41 5E
 A\, United Kingdom
X-APPLE-STRUCTURED-LOCATION;VALUE=URI;X-ADDRESS=Sindlesham Court\, Mole Roa
 d\, Wokingham\, RG41 5EA\, United Kingdom;X-APPLE-RADIUS=100;X-TITLE=Flave
 ll Suite:geo:0,0
END:VEVENT
BEGIN:VTIMEZONE
TZID:Europe/London
X-LIC-LOCATION:Europe/London
BEGIN:DAYLIGHT
DTSTART:20230326T020000
TZOFFSETFROM:+0000
TZOFFSETTO:+0100
TZNAME:BST
END:DAYLIGHT
END:VTIMEZONE
END:VCALENDAR