BEGIN:VCALENDAR
VERSION:2.0
PRODID:-//wp-events-plugin.com//7.2.2.1//EN
BEGIN:VEVENT
UID:908@lovewokingham.co.uk
DTSTART;TZID=Europe/London:20251202T200000
DTEND;TZID=Europe/London:20251202T233000
DTSTAMP:20250909T113127Z
URL:https://www.lovewokingham.co.uk/events/sip-laugh-bobby-davro
SUMMARY:Sip & Laugh Bobby Davro
DESCRIPTION:Headliner\, the one and only Bobby Davro from  “Eastenders\,
  Copy Cats\, Bobby Davro on the Box…”\nMC: Mark Palmer.\nTickets £30.
 30 https://wegottickets.com/event/675536?fbclid Discount for groups.\nSea
 ting will be assigned to you. If you wish to be sat with another booking p
 lease e-mail wokingham@sitandsip.co.uk
ATTACH;FMTTYPE=image/jpeg:https://www.lovewokingham.co.uk/wp-content/uploa
 ds/2025/09/542604145_1282236533913055_2613620114589100430_n.jpg
CATEGORIES:Mailchimp Events
LOCATION:Sit & Sip\, 8 Peach Place\, Wokingham\, Berkshire\, RG40 1LY\, Uni
 ted Kingdom
GEO:51.410641;-0.832781
X-APPLE-STRUCTURED-LOCATION;VALUE=URI;X-ADDRESS=8 Peach Place\, Wokingham\,
  Berkshire\, RG40 1LY\, United Kingdom;X-APPLE-RADIUS=100;X-TITLE=Sit & Si
 p:geo:51.410641,-0.832781
END:VEVENT
BEGIN:VTIMEZONE
TZID:Europe/London
X-LIC-LOCATION:Europe/London
BEGIN:STANDARD
DTSTART:20251026T010000
TZOFFSETFROM:+0100
TZOFFSETTO:+0000
TZNAME:GMT
END:STANDARD
END:VTIMEZONE
END:VCALENDAR