BEGIN:VCALENDAR
VERSION:2.0
PRODID:-//wp-events-plugin.com//7.2.2.1//EN
BEGIN:VEVENT
UID:859@lovewokingham.co.uk
DTSTART;TZID=Europe/London:20250617T190000
DTEND;TZID=Europe/London:20250617T210000
DTSTAMP:20250508T092435Z
URL:https://www.lovewokingham.co.uk/events/sip-paint-sit-sip
SUMMARY:Sip & Paint: Sit & Sip
DESCRIPTION:With Michelle Douglas: Paint a birthday card\n\nJoin the monthl
 y sip and paint event in Wokingham where we will be hand painting a birthd
 ay card for you to gift to someone special.\n\nCall Michelle on 07740 1417
 69 to book your place.
ATTACH;FMTTYPE=image/jpeg:https://www.lovewokingham.co.uk/wp-content/uploa
 ds/2025/05/490535937_2976529219187315_2804387421366414364_n.jpg
CATEGORIES:Mailchimp Events
LOCATION:Sit & Sip Wokingham\, 8 Peach Place\, Wokingham\, Berkshire\, RG40
  1LY\, United Kingdom
GEO:51.410641;-0.832781
X-APPLE-STRUCTURED-LOCATION;VALUE=URI;X-ADDRESS=8 Peach Place\, Wokingham\,
  Berkshire\, RG40 1LY\, United Kingdom;X-APPLE-RADIUS=100;X-TITLE=Sit & Si
 p Wokingham:geo:51.410641,-0.832781
END:VEVENT
BEGIN:VTIMEZONE
TZID:Europe/London
X-LIC-LOCATION:Europe/London
BEGIN:DAYLIGHT
DTSTART:20250330T020000
TZOFFSETFROM:+0000
TZOFFSETTO:+0100
TZNAME:BST
END:DAYLIGHT
END:VTIMEZONE
END:VCALENDAR