BEGIN:VCALENDAR
VERSION:2.0
PRODID:-//wp-events-plugin.com//7.2.2.1//EN
BEGIN:VEVENT
UID:843@lovewokingham.co.uk
DTSTART;TZID=Europe/London:20250520T190000
DTEND;TZID=Europe/London:20250520T210000
DTSTAMP:20250409T152033Z
URL:https://www.lovewokingham.co.uk/events/sip-paint
SUMMARY:Sip & Paint
DESCRIPTION:This sessions painting will be of an ‘Octopus’ All supplies
  are provided on the evening and all abilities welcome!Please get in touch
  with Michelle to book on 07740141769.\n£20 per person\, per session. pre
 -booking required.\n&nbsp\;
ATTACH;FMTTYPE=image/jpeg:https://www.lovewokingham.co.uk/wp-content/uploa
 ds/2025/04/480841299_1120769133393130_6426158491735821450_n-e1744211945112
 .jpg
CATEGORIES:Mailchimp Events
LOCATION:Sit & Sip\, 8 Peach Place\, Wokingham\, RG40 1LY\, United Kingdom
X-APPLE-STRUCTURED-LOCATION;VALUE=URI;X-ADDRESS=8 Peach Place\, Wokingham\,
  RG40 1LY\, United Kingdom;X-APPLE-RADIUS=100;X-TITLE=Sit & Sip:geo:0,0
END:VEVENT
BEGIN:VTIMEZONE
TZID:Europe/London
X-LIC-LOCATION:Europe/London
BEGIN:DAYLIGHT
DTSTART:20250330T020000
TZOFFSETFROM:+0000
TZOFFSETTO:+0100
TZNAME:BST
END:DAYLIGHT
END:VTIMEZONE
END:VCALENDAR