BEGIN:VCALENDAR
VERSION:2.0
PRODID:-//wp-events-plugin.com//7.2.2.1//EN
BEGIN:VEVENT
UID:530@lovewokingham.co.uk
DTSTART;TZID=Europe/London:20240316T110000
DTEND;TZID=Europe/London:20240316T200000
DTSTAMP:20240228T105453Z
URL:https://www.lovewokingham.co.uk/events/siren-craft-brews-birthday
SUMMARY:Siren Craft Brews Birthday
DESCRIPTION:Part or all day tickets available
ATTACH;FMTTYPE=image/jpeg:https://www.lovewokingham.co.uk/wp-content/uploa
 ds/2024/02/422654749_707165398276266_2747734551293489831_n.jpg
CATEGORIES:Mailchimp Events
LOCATION:Siren Craft Brew\, 18 Marino Way\, Hogwood Industrial Estate\, Fin
 champstead\, Wokingham\, United Kingdom
X-APPLE-STRUCTURED-LOCATION;VALUE=URI;X-ADDRESS=18 Marino Way\, Hogwood Ind
 ustrial Estate\, Finchampstead\, Wokingham\, United Kingdom;X-APPLE-RADIUS
 =100;X-TITLE=Siren Craft Brew:geo:0,0
END:VEVENT
BEGIN:VTIMEZONE
TZID:Europe/London
X-LIC-LOCATION:Europe/London
BEGIN:STANDARD
DTSTART:20231029T010000
TZOFFSETFROM:+0100
TZOFFSETTO:+0000
TZNAME:GMT
END:STANDARD
END:VTIMEZONE
END:VCALENDAR