BEGIN:VCALENDAR
VERSION:2.0
PRODID:-//wp-events-plugin.com//7.2.2.1//EN
BEGIN:VEVENT
UID:146@lovewokingham.co.uk
DTSTART;TZID=Europe/London:20221116T073000
DTEND;TZID=Europe/London:20221116T073000
DTSTAMP:20221013T141606Z
URL:https://www.lovewokingham.co.uk/events/sit-laugh-at-sit-sip
SUMMARY:Sit & Laugh at Sit & Sip!
DESCRIPTION:Comedy Night
ATTACH;FMTTYPE=image/jpeg:https://www.lovewokingham.co.uk/wp-content/uploa
 ds/2022/10/Sit-Sip-Comedy-Night.png
CATEGORIES:Mailchimp Events
LOCATION:Sit & Sip\, 8 Peach Place\, Wokingham\, RG40 1LY\, United Kingdom
X-APPLE-STRUCTURED-LOCATION;VALUE=URI;X-ADDRESS=8 Peach Place\, Wokingham\,
  RG40 1LY\, United Kingdom;X-APPLE-RADIUS=100;X-TITLE=Sit & Sip:geo:0,0
END:VEVENT
BEGIN:VTIMEZONE
TZID:Europe/London
X-LIC-LOCATION:Europe/London
BEGIN:STANDARD
DTSTART:20221030T010000
TZOFFSETFROM:+0100
TZOFFSETTO:+0000
TZNAME:GMT
END:STANDARD
END:VTIMEZONE
END:VCALENDAR