BEGIN:VCALENDAR
VERSION:2.0
PRODID:-//wp-events-plugin.com//7.2.2.1//EN
BEGIN:VEVENT
UID:739@lovewokingham.co.uk
DTSTART;TZID=Europe/London:20241231T190000
DTEND;TZID=Europe/London:20250101T020000
DTSTAMP:20241119T140154Z
URL:https://www.lovewokingham.co.uk/events/sit-sip-nye-disco
SUMMARY:Sit & Sip NYE Disco
DESCRIPTION:FREE entry.\n\nDJ from 7pm. Open until 2am. So plenty of time t
 o mix and mingle.
ATTACH;FMTTYPE=image/jpeg:https://www.lovewokingham.co.uk/wp-content/uploa
 ds/2024/11/1000003267.jpg
CATEGORIES:Mailchimp Events
LOCATION:Sit & Sip\, 8 Peach Place\, Wokingham\, RG40 1LY\, United Kingdom
X-APPLE-STRUCTURED-LOCATION;VALUE=URI;X-ADDRESS=8 Peach Place\, Wokingham\,
  RG40 1LY\, United Kingdom;X-APPLE-RADIUS=100;X-TITLE=Sit & Sip:geo:0,0
END:VEVENT
BEGIN:VTIMEZONE
TZID:Europe/London
X-LIC-LOCATION:Europe/London
BEGIN:STANDARD
DTSTART:20241027T010000
TZOFFSETFROM:+0100
TZOFFSETTO:+0000
TZNAME:GMT
END:STANDARD
END:VTIMEZONE
END:VCALENDAR