BEGIN:VCALENDAR
VERSION:2.0
PRODID:-//wp-events-plugin.com//7.2.2.1//EN
BEGIN:VEVENT
UID:975@lovewokingham.co.uk
DTSTART;TZID=Europe/London:20260201T150000
DTEND;TZID=Europe/London:20260301T170000
DTSTAMP:20251125T094523Z
URL:https://www.lovewokingham.co.uk/events/snow-white-panto-2
SUMMARY:Snow White Panto
DESCRIPTION:Seven times the giggles - one fun family pantomime.\n\nOver two
  days with three chances to see it!\n\nMirror\, mirror on the wall… perh
 aps Queen Absinthe’s not the fairest after all! With seven colourful fri
 ends\, a dashing prince\, and plenty of “oh no it isn’t!” mayhem\, S
 now White parish panto is packed with songs and silliness.\n\nExpect a cla
 ssic family pantomime with groan-worthy gags and sing-along tunes in this 
 adaption of the classic tale.\n\nShow Times:\n\n- 3pm or 7pm on Saturday 3
 1 January 2026\,\n\n- 3pm on Sunday 1 February 2026\n\nAll tickets £7 ht
 tp://tinyurl.com/ccsnowwhite\n\nBrought to you by the Corpus Christi Paris
 h Panto Group.   This year the cast have chosen local charity The Cowshe
 d\n\nImage generated by AI
ATTACH;FMTTYPE=image/jpeg:https://www.lovewokingham.co.uk/wp-content/uploa
 ds/2025/11/thumbnail_Snow-White-Pantomime-poster.png
CATEGORIES:Mailchimp Events
LOCATION:Holme Grange School\, Heathlands Road\, Wokingham\, RG40 3AL\, Uni
 ted Kingdom
GEO:51.399079;-0.813804
X-APPLE-STRUCTURED-LOCATION;VALUE=URI;X-ADDRESS=Heathlands Road\, Wokingham
 \, RG40 3AL\, United Kingdom;X-APPLE-RADIUS=100;X-TITLE=Holme Grange Schoo
 l:geo:51.399079,-0.813804
END:VEVENT
BEGIN:VTIMEZONE
TZID:Europe/London
X-LIC-LOCATION:Europe/London
BEGIN:STANDARD
DTSTART:20251026T010000
TZOFFSETFROM:+0100
TZOFFSETTO:+0000
TZNAME:GMT
END:STANDARD
END:VTIMEZONE
END:VCALENDAR