BEGIN:VCALENDAR
VERSION:2.0
PRODID:-//wp-events-plugin.com//7.2.2.1//EN
BEGIN:VEVENT
UID:689@lovewokingham.co.uk
DTSTART;TZID=Europe/London:20241002T193000
DTEND;TZID=Europe/London:20241002T214500
DTSTAMP:20241001T082444Z
URL:https://www.lovewokingham.co.uk/events/so-you-think-you-know-music-qui
 z
SUMMARY:So You Think You Know Music...Quiz
DESCRIPTION:So You Think You Know Music ?\nPROVE IT - at Sedero Lounge with
  their fun\, interactive\, Music Quiz\n\nHosted By Abi Powell &amp\; Nicol
 e Allan\n2 local Musicians bringing you the questions in a very unique way
  !\nWhat's involved?\nTV &amp\; Film music (brush up on your scoring )\nLi
 ve performance questions\nProfessional Kazoo playing\nAll Genres of music 
 to answer from\nAll Eras of music to include every Fabulous generation\nSt
 arting at 7:30 pm and £3 pp to enter !!
ATTACH;FMTTYPE=image/jpeg:https://www.lovewokingham.co.uk/wp-content/uploa
 ds/2024/09/457804337_122115375338429225_3496360851647930603_n.jpg
CATEGORIES:Mailchimp Events
LOCATION:Sedero Lounge\, Bailey's House\, Central Walk\, Wokingham\, Berksh
 ire\, RG40 1AZ\, United Kingdom
X-APPLE-STRUCTURED-LOCATION;VALUE=URI;X-ADDRESS=Bailey's House\, Central Wa
 lk\, Wokingham\, Berkshire\, RG40 1AZ\, United Kingdom;X-APPLE-RADIUS=100;
 X-TITLE=Sedero Lounge:geo:0,0
END:VEVENT
BEGIN:VTIMEZONE
TZID:Europe/London
X-LIC-LOCATION:Europe/London
BEGIN:DAYLIGHT
DTSTART:20240331T020000
TZOFFSETFROM:+0000
TZOFFSETTO:+0100
TZNAME:BST
END:DAYLIGHT
END:VTIMEZONE
END:VCALENDAR