BEGIN:VCALENDAR
VERSION:2.0
PRODID:-//wp-events-plugin.com//7.2.2.1//EN
BEGIN:VEVENT
UID:867@lovewokingham.co.uk
DTSTART;TZID=Europe/London:20250621T200000
DTEND;TZID=Europe/London:20250621T223000
DTSTAMP:20250529T205340Z
URL:https://www.lovewokingham.co.uk/events/solstice-sunset-swim
SUMMARY:Solstice Sunset Swim
DESCRIPTION:Embrace the magic of the longest day of the year with an unforg
 ettable evening of wellness\, community\, and purpose at the Solstice Suns
 et Swim.\n\nSet against the tranquil backdrop of Dinton Pastures\, this sp
 ecial midsummer gathering is perfect to anyone that would like to pause\, 
 reflect\, and reconnect – with themselves\, with others\, and with natur
 e.\n\nWhether you choose to experience all the activities or simply take i
 n the peaceful atmosphere\, this event promises to be a powerful celebrati
 on of mental wellbeing\, community spirit\, and brighter futures. All proc
 eeds from the evening – including a raffle filled with amazing prizes 
 – in support of Launchpad.\n\nThe evening begins with a refreshing welco
 me drink\, followed by a deeply relaxing guided meditation and a soul-soot
 hing sound bath. As the sun sets\, people will be invited to take part in 
 a mindful swim or dip\, letting go of the day and immersing themselves in 
 the moment. A portable sauna will also be onsite to warm people up after t
 heir swim..\n\nOnline booking: £22.50 https://launchpadreading.org.uk/so
 lstice-sunset-swim
ATTACH;FMTTYPE=image/jpeg:https://www.lovewokingham.co.uk/wp-content/uploa
 ds/2025/05/497753892_10162546098114259_4740995915927499464_n.jpg
CATEGORIES:Mailchimp Events
LOCATION:Dinton Pastures Country Park\,\, Davis Street\, Hurst\, Wokingham\
 , RG10 0TH\, United Kingdom
GEO:51.442424;-0.867744
X-APPLE-STRUCTURED-LOCATION;VALUE=URI;X-ADDRESS=Davis Street\, Hurst\, Woki
 ngham\, RG10 0TH\, United Kingdom;X-APPLE-RADIUS=100;X-TITLE=Dinton Pastur
 es Country Park\,:geo:51.442424,-0.867744
END:VEVENT
BEGIN:VTIMEZONE
TZID:Europe/London
X-LIC-LOCATION:Europe/London
BEGIN:DAYLIGHT
DTSTART:20250330T020000
TZOFFSETFROM:+0000
TZOFFSETTO:+0100
TZNAME:BST
END:DAYLIGHT
END:VTIMEZONE
END:VCALENDAR