BEGIN:VCALENDAR
VERSION:2.0
PRODID:-//wp-events-plugin.com//7.2.2.1//EN
BEGIN:VEVENT
UID:309@lovewokingham.co.uk
DTSTART;TZID=Europe/London:20230716T150000
DTEND;TZID=Europe/London:20230716T170000
DTSTAMP:20230621T120833Z
URL:https://www.lovewokingham.co.uk/events/summer-picnic-social-sing-out
SUMMARY:Summer Picnic Social & Sing Out
DESCRIPTION:Sing Healthy & Clasp Choirs
ATTACH;FMTTYPE=image/jpeg:https://www.lovewokingham.co.uk/wp-content/uploa
 ds/2023/06/355109636_606063191638418_1487832201364415970_n.jpg
CATEGORIES:Mailchimp Events
LOCATION:St Crispin's School (science block)\, London Road\, Wokingham\, Un
 ited Kingdom
X-APPLE-STRUCTURED-LOCATION;VALUE=URI;X-ADDRESS=London Road\, Wokingham\, U
 nited Kingdom;X-APPLE-RADIUS=100;X-TITLE=St Crispin's School (science bloc
 k):geo:0,0
END:VEVENT
BEGIN:VTIMEZONE
TZID:Europe/London
X-LIC-LOCATION:Europe/London
BEGIN:DAYLIGHT
DTSTART:20230326T020000
TZOFFSETFROM:+0000
TZOFFSETTO:+0100
TZNAME:BST
END:DAYLIGHT
END:VTIMEZONE
END:VCALENDAR