BEGIN:VCALENDAR
VERSION:2.0
PRODID:-//wp-events-plugin.com//7.2.2.1//EN
BEGIN:VEVENT
UID:525@lovewokingham.co.uk
DTSTART;TZID=Europe/London:20240907T110000
DTEND;TZID=Europe/London:20240907T130000
DTSTAMP:20240820T104333Z
URL:https://www.lovewokingham.co.uk/events/sunny-saturdays-3
SUMMARY:Sunny Saturdays
DESCRIPTION:Live music in Peach Place\n\nLocal Steel Pan 3 piece Shallow Mu
 sic will be in Peach Place between 11am to 1pm on 7th September for Sunny 
 Saturdays.\n\nWe might not be able to guarantee the sunshine here in the U
 K but the sun drenched sounds of the Caribbean will be in full force.\n\n&
 nbsp\;
ATTACH;FMTTYPE=image/jpeg:https://www.lovewokingham.co.uk/wp-content/uploa
 ds/2024/02/sssteelpan.jpg
CATEGORIES:Mailchimp Events
LOCATION:Peach Place\, Peach Place\, Wokingham\, Berkshire\, RG40 1LY\, Uni
 ted Kingdom
X-APPLE-STRUCTURED-LOCATION;VALUE=URI;X-ADDRESS=Peach Place\, Wokingham\, B
 erkshire\, RG40 1LY\, United Kingdom;X-APPLE-RADIUS=100;X-TITLE=Peach Plac
 e:geo:0,0
END:VEVENT
BEGIN:VTIMEZONE
TZID:Europe/London
X-LIC-LOCATION:Europe/London
BEGIN:DAYLIGHT
DTSTART:20240331T020000
TZOFFSETFROM:+0000
TZOFFSETTO:+0100
TZNAME:BST
END:DAYLIGHT
END:VTIMEZONE
END:VCALENDAR