BEGIN:VCALENDAR
VERSION:2.0
PRODID:-//wp-events-plugin.com//7.2.2.1//EN
BEGIN:VEVENT
UID:164@lovewokingham.co.uk
DTSTART;TZID=Europe/London:20221214T063000
DTEND;TZID=Europe/London:20221214T080000
DTSTAMP:20221130T172538Z
URL:https://www.lovewokingham.co.uk/events/table-arrangement-workshop
SUMMARY:Table Arrangement Workshop
DESCRIPTION:Run by Funky Flowers
ATTACH;FMTTYPE=image/jpeg:https://www.lovewokingham.co.uk/wp-content/uploa
 ds/2022/11/315879363_484424790451336_234754841031133475_n.jpg
CATEGORIES:Mailchimp Events
LOCATION:The Rose Inn\, Market Place\, Wokingham\, Berkshire\, RG40 1AS\, U
 nited Kingdom
X-APPLE-STRUCTURED-LOCATION;VALUE=URI;X-ADDRESS=Market Place\, Wokingham\, 
 Berkshire\, RG40 1AS\, United Kingdom;X-APPLE-RADIUS=100;X-TITLE=The Rose 
 Inn:geo:0,0
END:VEVENT
BEGIN:VTIMEZONE
TZID:Europe/London
X-LIC-LOCATION:Europe/London
BEGIN:STANDARD
DTSTART:20221030T010000
TZOFFSETFROM:+0100
TZOFFSETTO:+0000
TZNAME:GMT
END:STANDARD
END:VTIMEZONE
END:VCALENDAR