BEGIN:VCALENDAR
VERSION:2.0
PRODID:-//wp-events-plugin.com//7.2.2.1//EN
BEGIN:VEVENT
UID:192@lovewokingham.co.uk
DTSTART;TZID=Europe/London:20230310T193000
DTEND;TZID=Europe/London:20230310T213000
DTSTAMP:20230112T131603Z
URL:https://www.lovewokingham.co.uk/events/talent-show-spectacular
SUMMARY:Talent Show Spectacular
DESCRIPTION:Wokingham in Need and CLASP are proud to present our Talent Sho
 w Spectacular.\nAll monies raised go to CLASP and other worthy local cause
 s. CLASP is a self-advocacy group for people with learning disabilities in
  the Wokingham Borough.\n​\nAs a user-led organisation\, CLASP is run by
  their members. They employ people with learning disabilities and offer vo
 luntary opportunities. CLASP supports our members to have their say about 
 how local services are developed\, and they provide one to one support\, i
 nformation\, advice and signposting.\nThis show will be performed by the m
 embers of CLASP with assistance from Circus Scene.\nFriday 10th March 2023
 \nDoors Open 6:45pm\, performance starts 7:30pm.\nTickets £5 http://www.
 ticketsource.co.uk/wokinghaminneed\n
ATTACH;FMTTYPE=image/jpeg:https://www.lovewokingham.co.uk/wp-content/uploa
 ds/2023/01/324155281_553320306707350_4308057336376758973_n.jpg
CATEGORIES:Mailchimp Events
LOCATION:The Whitty Theatre\, Luckley Road\, Wokingham\, Berkshire\, RG403E
 U\, United Kingdom
GEO:51.398838;-0.839821
X-APPLE-STRUCTURED-LOCATION;VALUE=URI;X-ADDRESS=Luckley Road\, Wokingham\, 
 Berkshire\, RG403EU\, United Kingdom;X-APPLE-RADIUS=100;X-TITLE=The Whitty
  Theatre:geo:51.398838,-0.839821
END:VEVENT
BEGIN:VTIMEZONE
TZID:Europe/London
X-LIC-LOCATION:Europe/London
BEGIN:STANDARD
DTSTART:20221030T010000
TZOFFSETFROM:+0100
TZOFFSETTO:+0000
TZNAME:GMT
END:STANDARD
END:VTIMEZONE
END:VCALENDAR