BEGIN:VCALENDAR
VERSION:2.0
PRODID:-//wp-events-plugin.com//7.2.2.1//EN
BEGIN:VEVENT
UID:812@lovewokingham.co.uk
DTSTART;TZID=Europe/London:20250412T193000
DTEND;TZID=Europe/London:20250412T220000
DTSTAMP:20250319T141349Z
URL:https://www.lovewokingham.co.uk/events/tanya-amy-winehouse-tribute
SUMMARY:Tanya - Amy Winehouse Tribute
DESCRIPTION:One of the best soundalikes to the one and only Amy Winehouse. 
 In July 2007\, Tania began her unique and authentic tribute to the multi-a
 ward winning vocalist Amy Winehouse\, not only whipping up a frenzy in the
  UK\, but also taking the rest of the world by storm!\nNot content with on
 ly perfecting that unique vocal style and sound that Amy has since become 
 infamous for\, she believes that every head tilt\, skirt flick and even th
 e hair twirling has to be spot on! Every detail has been studied with such
  accuracy that this isn’t just a vocal performance. This has become the 
 full Amy Winehouse experience!\n\nTickets £15 https://www.ticketsource.c
 o.uk/thewhitehorse/tanya-amy-winehouse-tribute
ATTACH;FMTTYPE=image/jpeg:https://www.lovewokingham.co.uk/wp-content/uploa
 ds/2025/03/473199638_1157417862942995_4495394955795926179_n-e1742393434772
 .jpg
CATEGORIES:Mailchimp Events
LOCATION:The White Horse Pub\, Easthampstead Road\, Wokingham\, United King
 dom
X-APPLE-STRUCTURED-LOCATION;VALUE=URI;X-ADDRESS=Easthampstead Road\, Woking
 ham\, United Kingdom;X-APPLE-RADIUS=100;X-TITLE=The White Horse Pub:geo:0,
 0
END:VEVENT
BEGIN:VTIMEZONE
TZID:Europe/London
X-LIC-LOCATION:Europe/London
BEGIN:DAYLIGHT
DTSTART:20250330T020000
TZOFFSETFROM:+0000
TZOFFSETTO:+0100
TZNAME:BST
END:DAYLIGHT
END:VTIMEZONE
END:VCALENDAR