BEGIN:VCALENDAR
VERSION:2.0
PRODID:-//wp-events-plugin.com//7.2.2.1//EN
BEGIN:VEVENT
UID:983@lovewokingham.co.uk
DTSTART;TZID=Europe/London:20260121T171500
DTEND;TZID=Europe/London:20260121T184500
DTSTAMP:20251204T095258Z
URL:https://www.lovewokingham.co.uk/events/teen-club-wokingham
SUMMARY:Teen Club Wokingham
DESCRIPTION:MUST BE BOOKED via a registration form AND a sign up meeting.\n
 A teen club for neurodivergent young people aged 12 to 18 years. No diagno
 sis is required.\nTeens must be able to access this activity on a ratio of
  1 adult to 8 teens.\nThe aim of the club is to encourage socialising and 
 making friends\, whilst getting out of the house for a while!\n\nStaff are
  experienced working with children &amp\; young people with a variety of n
 eeds and the environment is supportive and easy-going.\n\nCost: £4.00 per
  child per session (payable as a termly payment).\nA small disposable snac
 k and drink will be available for each child.\nSessions are without parent
 s present - for this reason\, all new teens will only be booked onto this 
 activity after the young person and their parent have met with staff to si
 gn up.\nThe sign up form is online and there will  be a sign up meeting p
 rior to offering a space. (There is currently a waiting list).\nSign up me
 etings allow the teens to meet staff\, and give teens a chance to ask us a
 ny questions.\nRegistration form to be added to our wait list: https://for
 ms.office.com/r/7v9s23AbPe\nIf you have any further questions please email
  Rachael@asdfamilyhelp.org
ATTACH;FMTTYPE=image/jpeg:https://www.lovewokingham.co.uk/wp-content/uploa
 ds/2025/12/teen.jpg
CATEGORIES:Mailchimp Events
LOCATION:Wokingham Baptist Church\, Milton Road\, Wokingham\, Berkshire\, R
 G40 1DE\, United Kingdom
X-APPLE-STRUCTURED-LOCATION;VALUE=URI;X-ADDRESS=Milton Road\, Wokingham\, B
 erkshire\, RG40 1DE\, United Kingdom;X-APPLE-RADIUS=100;X-TITLE=Wokingham 
 Baptist Church:geo:0,0
END:VEVENT
BEGIN:VTIMEZONE
TZID:Europe/London
X-LIC-LOCATION:Europe/London
BEGIN:STANDARD
DTSTART:20251026T010000
TZOFFSETFROM:+0100
TZOFFSETTO:+0000
TZNAME:GMT
END:STANDARD
END:VTIMEZONE
END:VCALENDAR